BEGIN:VCALENDAR
VERSION:2.0
X-WR-CALNAME: Soulgood Duo feat. Aimee and Jeremy
PRODID:GIGPRESS 2.0 WORDPRESS PLUGIN
CALSCALE:GREGORIAN
X-WR-TIMEZONE:Etc/GMT
METHOD:PUBLISH
BEGIN:VTIMEZONE
TZID:GMT
BEGIN:STANDARD
DTSTART:20071028T010000
TZOFFSETTO:+0000
TZOFFSETFROM:+0000
END:STANDARD
END:VTIMEZONE
BEGIN:VEVENT
SUMMARY:Soulgood Duo feat. Aimee and Jeremy at Makai Music and Art Festival
DESCRIPTION:Notes: Free entry! This is an intimate outdoor venue with festive energy! Our set is followed by other local artists at 3:15pm.  Wonderful fine arts\, local products\, treats and the Makai Grill! All Ages
LOCATION:Makai Music and Art Festival\, 4080 Lei O Papa Rd\, Princeville\, HI\, US
UID:20260429T131500Z-574-adam@cosmosexschool.com
URL:https://www.soulgoodfamily.com
DTSTART;VALUE=DATE-TIME;TZID=GMT:20260429T131500Z
DTEND;VALUE=DATE-TIME;TZID=GMT:20260429T131500Z
DTSTAMP:20260425T030403Z
END:VEVENT
BEGIN:VEVENT
SUMMARY:Soulgood Duo feat. Aimee and Jeremy at Gaia
DESCRIPTION:Notes: 10 minutes past Hanalei at the "Hanalei" Colony Resort! Oceanfront\, AMAZING FOOD! (formally Opakapaka Grill\, this new restaurant is a WHOLE NEW WORLD! GAIA! All Ages
LOCATION:Gaia\, 5-7132 Kuhio Hwy\, Hanalei\, US
UID:20260430T180000Z-569-adam@cosmosexschool.com
URL:https://www.soulgoodfamily.com
DTSTART;VALUE=DATE-TIME;TZID=GMT:20260430T180000Z
DTEND;VALUE=DATE-TIME;TZID=GMT:20260430T180000Z
DTSTAMP:20260425T030403Z
END:VEVENT
BEGIN:VEVENT
SUMMARY:Soulgood Duo feat. Aimee and Jeremy at Johnson's Smokehouse and Sausage Kitchen
DESCRIPTION:Notes: Exact time TBD! All Ages
LOCATION:Johnson's Smokehouse and Sausage Kitchen\, 8310 Diagonal Road\, Olympia\, US
UID:20260717T160000Z-563-adam@cosmosexschool.com
URL:https://www.soulgoodfamily.com
DTSTART;VALUE=DATE-TIME;TZID=GMT:20260717T160000Z
DTEND;VALUE=DATE-TIME;TZID=GMT:20260717T160000Z
DTSTAMP:20260425T030403Z
END:VEVENT
BEGIN:VEVENT
SUMMARY:Soulgood Duo feat. Aimee and Jeremy at Fiddler's Inn Pub and Pizza
DESCRIPTION:Notes: EXACT TIME TBD All Ages
LOCATION:Fiddler's Inn Pub and Pizza\, 9219 35th Ave NE\, Seattle\, US
UID:20260719T180000Z-564-adam@cosmosexschool.com
URL:https://www.soulgoodfamily.com
DTSTART;VALUE=DATE-TIME;TZID=GMT:20260719T180000Z
DTEND;VALUE=DATE-TIME;TZID=GMT:20260719T180000Z
DTSTAMP:20260425T030403Z
END:VEVENT
END:VCALENDAR